BEGIN:VCALENDAR
VERSION:2.0
PRODID:-//eventon.com NONSGML v1.0//EN
BEGIN:VEVENT
UID:69e88a404d1ee
DTSTAMP:20260422T084344
DTSTART:20251017T200000Z
DTEND:20251017T213000Z
LOCATION:SOULYOGA Berlin Herbertstraße 11\,  10827 Berlin
SUMMARY:Somatic Yin & Aroma - October Special
DESCRIPTION: Stärke im Herbst Dein Immunsystem mit Yin Yoga & Aromaölen Dieses YIN & AROMAPRESSUR-SEPCIAL lädt Dich ein tief durchzuatmen und loszulassen\,  was Dich nicht mehr nährt. Die Energie (Qi/Prana) der Lunge unterstützt die Energie im gesamten Körper. Sie ist das Hauptorgan für die Atmung\,  das Qi aus der Umgebung aufnimmt[..]
END:VEVENT
END:VCALENDAR